BEGIN:VCALENDAR
VERSION:2.0
PRODID:-//revitalizedelton.org//NONSGML kigkonsult.se iCalcreator 2.30.10//
CALSCALE:GREGORIAN
METHOD:PUBLISH
UID:f7fcd556-896e-4486-be15-6828d49d1a86
X-WR-CALDESC:For more information: https://barrytownshipmi.com\n
X-WR-RELCALID:8f8cee18088213727983ed151872ce30
X-WR-TIMEZONE:America/New_York
BEGIN:VTIMEZONE
TZID:America/New_York
BEGIN:STANDARD
TZNAME:EST
DTSTART:20251102T020000
TZOFFSETFROM:-0400
TZOFFSETTO:-0500
RDATE:20261101T020000
END:STANDARD
BEGIN:DAYLIGHT
TZNAME:EDT
DTSTART:20250309T020000
TZOFFSETFROM:-0500
TZOFFSETTO:-0400
RDATE:20260308T020000
RDATE:20270314T020000
END:DAYLIGHT
END:VTIMEZONE
BEGIN:VEVENT
UID:8fb1aa56-bba9-4e7c-b461-c32f27972a9c
DTSTAMP:20260421T091737Z
DESCRIPTION:For more information: https://barrytownshipmi.com\n
DTSTART;TZID=America/New_York:20260113T190000
DTEND;TZID=America/New_York:20260113T200000
LOCATION:11300 M-43 HWY \, Delton\, MI 49046 US
SUMMARY:Barry Township Monthly Meeting
END:VEVENT
END:VCALENDAR
