BEGIN:VCALENDAR
VERSION:2.0
PRODID:-//revitalizedelton.org//NONSGML kigkonsult.se iCalcreator 2.30.10//
CALSCALE:GREGORIAN
METHOD:PUBLISH
UID:09a707ac-2fff-433c-b31f-2ab129c9fc2c
X-WR-CALDESC:Delton Rotary Club meets weekly on Thursdays in the Library. C
 heck out their Facebook for more info \nhttps://www.facebook.com/DeltonMIR
 otary/
X-WR-RELCALID:bca12f3bb038d1f241d6218eed36ecc5
X-WR-TIMEZONE:America/New_York
BEGIN:VTIMEZONE
TZID:America/New_York
BEGIN:STANDARD
TZNAME:EST
DTSTART:20251102T020000
TZOFFSETFROM:-0400
TZOFFSETTO:-0500
RDATE:20261101T020000
END:STANDARD
BEGIN:DAYLIGHT
TZNAME:EDT
DTSTART:20250309T020000
TZOFFSETFROM:-0500
TZOFFSETTO:-0400
RDATE:20260308T020000
RDATE:20270314T020000
END:DAYLIGHT
END:VTIMEZONE
BEGIN:VEVENT
UID:bfce43b9-9abf-4e76-bb3f-058ff4918cb6
DTSTAMP:20260423T090801Z
DESCRIPTION:Delton Rotary Club meets weekly on Thursdays in the Library. Ch
 eck out their Facebook for more info \nhttps://www.facebook.com/DeltonMIRo
 tary/
DTSTART;TZID=America/New_York:20260122T080000
DTEND;TZID=America/New_York:20260122T090000
LOCATION:330 N Grove St \, Delton\, MI 49046 US
SUMMARY:Rotary Club Meeting
END:VEVENT
END:VCALENDAR
