BEGIN:VCALENDAR
VERSION:2.0
PRODID:-//revitalizedelton.org//NONSGML kigkonsult.se iCalcreator 2.30.10//
CALSCALE:GREGORIAN
METHOD:PUBLISH
UID:cac8eaf9-6f61-4cf3-b751-040b7555df11
X-WR-CALDESC:Delton Rotary Club meets weekly on Thursdays in the Library. C
 heck out their Facebook for more info \nhttps://www.facebook.com/DeltonMIR
 otary/
X-WR-RELCALID:e176418a4e93d8e5f4133af2a9ab5488
X-WR-TIMEZONE:America/New_York
BEGIN:VTIMEZONE
TZID:America/New_York
BEGIN:STANDARD
TZNAME:EST
DTSTART:20251102T020000
TZOFFSETFROM:-0400
TZOFFSETTO:-0500
RDATE:20261101T020000
END:STANDARD
BEGIN:DAYLIGHT
TZNAME:EDT
DTSTART:20250309T020000
TZOFFSETFROM:-0500
TZOFFSETTO:-0400
RDATE:20260308T020000
RDATE:20270314T020000
END:DAYLIGHT
END:VTIMEZONE
BEGIN:VEVENT
UID:cdf96326-2f3b-4310-a5ec-267da3e32dd8
DTSTAMP:20260421T070619Z
DESCRIPTION:Delton Rotary Club meets weekly on Thursdays in the Library. Ch
 eck out their Facebook for more info \nhttps://www.facebook.com/DeltonMIRo
 tary/
DTSTART;TZID=America/New_York:20260219T080000
DTEND;TZID=America/New_York:20260219T090000
LOCATION:330 N Grove St \, Delton\, MI 49046 US
SUMMARY:Rotary Club Meeting
END:VEVENT
END:VCALENDAR
