BEGIN:VCALENDAR
VERSION:2.0
PRODID:-//revitalizedelton.org//NONSGML kigkonsult.se iCalcreator 2.30.10//
CALSCALE:GREGORIAN
METHOD:PUBLISH
UID:1e9c4ae0-d4a2-4ca2-b716-80cd80e3e288
X-WR-CALDESC:
X-WR-RELCALID:93c97ba89b7a695ea54b4293c03efa9a
X-WR-TIMEZONE:America/New_York
BEGIN:VTIMEZONE
TZID:America/New_York
BEGIN:STANDARD
TZNAME:EST
DTSTART:20251102T020000
TZOFFSETFROM:-0400
TZOFFSETTO:-0500
RDATE:20261101T020000
END:STANDARD
BEGIN:DAYLIGHT
TZNAME:EDT
DTSTART:20250309T020000
TZOFFSETFROM:-0500
TZOFFSETTO:-0400
RDATE:20260308T020000
RDATE:20270314T020000
END:DAYLIGHT
END:VTIMEZONE
BEGIN:VEVENT
UID:cc3dd892-3f6e-44d9-a9f4-b36b60054279
DTSTAMP:20260421T065923Z
DESCRIPTION:
DTSTART;TZID=America/New_York:20260221T100000
DTEND;TZID=America/New_York:20260221T140000
LOCATION:5420 Moose Lodge Dr.\, Delton\, MI 46046 US
SUMMARY:Delton Community Road Show
END:VEVENT
END:VCALENDAR
