BEGIN:VCALENDAR
VERSION:2.0
PRODID:-//revitalizedelton.org//NONSGML kigkonsult.se iCalcreator 2.30.10//
CALSCALE:GREGORIAN
METHOD:PUBLISH
UID:c37d519a-2eec-488d-a3b7-4daf63479801
X-WR-CALDESC:Join us in the Delton-Kellogg Middle School Cafeteria
X-WR-RELCALID:600da48296af8218ef5c26ab32184108
X-WR-TIMEZONE:America/New_York
BEGIN:VTIMEZONE
TZID:America/New_York
BEGIN:STANDARD
TZNAME:EST
DTSTART:20251102T020000
TZOFFSETFROM:-0400
TZOFFSETTO:-0500
RDATE:20261101T020000
END:STANDARD
BEGIN:DAYLIGHT
TZNAME:EDT
DTSTART:20250309T020000
TZOFFSETFROM:-0500
TZOFFSETTO:-0400
RDATE:20260308T020000
RDATE:20270314T020000
END:DAYLIGHT
END:VTIMEZONE
BEGIN:VEVENT
UID:09e818d4-10bc-4d78-b8ed-c9d0ff07ebf1
DTSTAMP:20260421T065922Z
DESCRIPTION:Join us in the Delton-Kellogg Middle School Cafeteria
DTSTART;TZID=America/New_York:20260225T183000
DTEND;TZID=America/New_York:20260225T200000
LOCATION:6325 Delton Road\, Delton\, MI 49046 US
SUMMARY:Revitalize Delton Meeting
END:VEVENT
END:VCALENDAR
