BEGIN:VCALENDAR
VERSION:2.0
PRODID:-//revitalizedelton.org//NONSGML kigkonsult.se iCalcreator 2.30.10//
CALSCALE:GREGORIAN
METHOD:PUBLISH
UID:fd4474fb-31ba-42e9-94cc-b308df62f15d
X-WR-CALDESC:Join the Founders Festival Committee in planning out the annua
 l Delton Founders Festival
X-WR-RELCALID:e3efb4ec00f34ec4429659a0f981abb5
X-WR-TIMEZONE:America/New_York
BEGIN:VTIMEZONE
TZID:America/New_York
BEGIN:STANDARD
TZNAME:EST
DTSTART:20251102T020000
TZOFFSETFROM:-0400
TZOFFSETTO:-0500
RDATE:20261101T020000
END:STANDARD
BEGIN:DAYLIGHT
TZNAME:EDT
DTSTART:20260308T020000
TZOFFSETFROM:-0500
TZOFFSETTO:-0400
RDATE:20270314T020000
END:DAYLIGHT
END:VTIMEZONE
BEGIN:VEVENT
UID:fe2cf8ad-03a3-444c-ade7-13a956974e58
DTSTAMP:20260421T072749Z
DESCRIPTION:Join the Founders Festival Committee in planning out the annual
  Delton Founders Festival
DTSTART;TZID=America/New_York:20260310T180000
DTEND;TZID=America/New_York:20260310T190000
LOCATION:155 E Orchard St\, Delton\, MI 49046 US
SUMMARY:Delton Founder's Festival Committee Meeting
END:VEVENT
END:VCALENDAR
