BEGIN:VCALENDAR
VERSION:2.0
PRODID:-//revitalizedelton.org//NONSGML kigkonsult.se iCalcreator 2.30.10//
CALSCALE:GREGORIAN
METHOD:PUBLISH
UID:650785a0-24fd-4c02-bd46-b6c74475093b
X-WR-CALDESC:For more information: https://www.orangevilletownship.org
X-WR-RELCALID:40b8c18f6f7df520d3bb3b27b791ae55
X-WR-TIMEZONE:America/New_York
BEGIN:VTIMEZONE
TZID:America/New_York
BEGIN:STANDARD
TZNAME:EST
DTSTART:20251102T020000
TZOFFSETFROM:-0400
TZOFFSETTO:-0500
RDATE:20261101T020000
END:STANDARD
BEGIN:DAYLIGHT
TZNAME:EDT
DTSTART:20260308T020000
TZOFFSETFROM:-0500
TZOFFSETTO:-0400
RDATE:20270314T020000
END:DAYLIGHT
END:VTIMEZONE
BEGIN:VEVENT
UID:7da42467-7415-48f7-bc18-ad61c21a6cb7
DTSTAMP:20260421T034210Z
DESCRIPTION:For more information: https://www.orangevilletownship.org
DTSTART;TZID=America/New_York:20260407T190000
DTEND;TZID=America/New_York:20260407T200000
LOCATION:7350 Lindsey Rd\, Plainwell\, MI 49080 US
SUMMARY:Orangeville Township Monthly Meeting
END:VEVENT
END:VCALENDAR
