BEGIN:VCALENDAR
VERSION:2.0
PRODID:-//revitalizedelton.org//NONSGML kigkonsult.se iCalcreator 2.30.10//
CALSCALE:GREGORIAN
METHOD:PUBLISH
UID:fd15e569-9106-416f-8b4c-590f5351d0c6
X-WR-CALDESC:http://prairievilletwp-mi.org
X-WR-RELCALID:8917d8b338c3e32aefc65a1d89e93aa1
X-WR-TIMEZONE:America/New_York
BEGIN:VTIMEZONE
TZID:America/New_York
BEGIN:STANDARD
TZNAME:EST
DTSTART:20251102T020000
TZOFFSETFROM:-0400
TZOFFSETTO:-0500
RDATE:20261101T020000
END:STANDARD
BEGIN:DAYLIGHT
TZNAME:EDT
DTSTART:20260308T020000
TZOFFSETFROM:-0500
TZOFFSETTO:-0400
RDATE:20270314T020000
END:DAYLIGHT
END:VTIMEZONE
BEGIN:VEVENT
UID:3b826dea-0d6e-4ff0-bb4f-546e91a881ab
DTSTAMP:20260421T034053Z
DESCRIPTION:http://prairievilletwp-mi.org
DTSTART;TZID=America/New_York:20260409T190000
DTEND;TZID=America/New_York:20260409T200000
LOCATION:10115 S Norris Rd\, Delton\, MI 49046 US
SUMMARY:Prairieville Township Planning Commission Meeting
END:VEVENT
END:VCALENDAR
