BEGIN:VCALENDAR
VERSION:2.0
PRODID:-//revitalizedelton.org//NONSGML kigkonsult.se iCalcreator 2.30.10//
CALSCALE:GREGORIAN
METHOD:PUBLISH
UID:41808f87-805a-4a59-8376-5a4de0994045
X-WR-CALDESC:For more information: https://barrytownshipmi.com\n
X-WR-RELCALID:7849d34c963519bc84918416ac928dad
X-WR-TIMEZONE:America/New_York
BEGIN:VTIMEZONE
TZID:America/New_York
BEGIN:STANDARD
TZNAME:EST
DTSTART:20251102T020000
TZOFFSETFROM:-0400
TZOFFSETTO:-0500
RDATE:20261101T020000
END:STANDARD
BEGIN:DAYLIGHT
TZNAME:EDT
DTSTART:20260308T020000
TZOFFSETFROM:-0500
TZOFFSETTO:-0400
RDATE:20270314T020000
END:DAYLIGHT
END:VTIMEZONE
BEGIN:VEVENT
UID:be2f9b94-7ec5-4788-afae-e2a3a021cc1f
DTSTAMP:20260421T033413Z
DESCRIPTION:For more information: https://barrytownshipmi.com\n
DTSTART;TZID=America/New_York:20260414T190000
DTEND;TZID=America/New_York:20260414T200000
LOCATION:11300 M-43 HWY \, Delton\, MI 49046 US
SUMMARY:Barry Township Monthly Meeting
END:VEVENT
END:VCALENDAR
