BEGIN:VCALENDAR
VERSION:2.0
PRODID:-//revitalizedelton.org//NONSGML kigkonsult.se iCalcreator 2.30.10//
CALSCALE:GREGORIAN
METHOD:PUBLISH
UID:57989218-6cbf-448d-b2d0-b0894e098bf2
X-WR-CALDESC:The Delton Community Auction\nIn Support of Local Non-Profit O
 rganizations\n\nWe are accepting quality consignments and donations for th
 is auction. Whether you have a few items or represent an entire estate\, w
 e would like to speak with you and help you get top dollar for your items.
 \n\nThe event is taking place both online and on location.
X-WR-RELCALID:a6e28948b047ff1cf42753ca98390ee3
X-WR-TIMEZONE:America/New_York
BEGIN:VTIMEZONE
TZID:America/New_York
BEGIN:STANDARD
TZNAME:EST
DTSTART:20251102T020000
TZOFFSETFROM:-0400
TZOFFSETTO:-0500
RDATE:20261101T020000
END:STANDARD
BEGIN:DAYLIGHT
TZNAME:EDT
DTSTART:20260308T020000
TZOFFSETFROM:-0500
TZOFFSETTO:-0400
RDATE:20270314T020000
END:DAYLIGHT
END:VTIMEZONE
BEGIN:VEVENT
UID:c7a4dfd7-ec46-4394-8a16-96df01d730b0
DTSTAMP:20260421T050814Z
DESCRIPTION:The Delton Community Auction\nIn Support of Local Non-Profit Or
 ganizations\n\nWe are accepting quality consignments and donations for thi
 s auction. Whether you have a few items or represent an entire estate\, we
  would like to speak with you and help you get top dollar for your items.
 \n\nThe event is taking place both online and on location.
DTSTART;TZID=America/New_York:20260502T100000
DTEND;TZID=America/New_York:20260502T173000
LOCATION:5420 Moose Lodge Dr.\, Delton\, MI 49046 US
SUMMARY:Delton Community Auction
END:VEVENT
END:VCALENDAR
