BEGIN:VCALENDAR
VERSION:2.0
PRODID:-//revitalizedelton.org//NONSGML kigkonsult.se iCalcreator 2.30.10//
CALSCALE:GREGORIAN
METHOD:PUBLISH
UID:aa03366c-8a05-4e23-b234-8b29255fe91e
X-WR-CALDESC:Join the Founders Festival Committee in planning out the annua
 l Delton Founders Festival
X-WR-RELCALID:622081f4738ba6ddad3c66d819de5756
X-WR-TIMEZONE:America/New_York
BEGIN:VTIMEZONE
TZID:America/New_York
BEGIN:STANDARD
TZNAME:EST
DTSTART:20251102T020000
TZOFFSETFROM:-0400
TZOFFSETTO:-0500
RDATE:20261101T020000
RDATE:20271107T020000
END:STANDARD
BEGIN:DAYLIGHT
TZNAME:EDT
DTSTART:20260308T020000
TZOFFSETFROM:-0500
TZOFFSETTO:-0400
RDATE:20270314T020000
END:DAYLIGHT
END:VTIMEZONE
BEGIN:VEVENT
UID:03abba0d-7e05-439a-9249-77b66e62d553
DTSTAMP:20260421T052126Z
DESCRIPTION:Join the Founders Festival Committee in planning out the annual
  Delton Founders Festival
DTSTART;TZID=America/New_York:20260512T180000
DTEND;TZID=America/New_York:20260512T190000
LOCATION:155 E Orchard St\, Delton\, MI 49046 US
SUMMARY:Delton Founder's Festival Committee Meeting
END:VEVENT
END:VCALENDAR
