BEGIN:VCALENDAR
VERSION:2.0
PRODID:-//revitalizedelton.org//NONSGML kigkonsult.se iCalcreator 2.30.10//
CALSCALE:GREGORIAN
METHOD:PUBLISH
UID:bdd94500-6dc9-480e-877e-56a05fe10c10
X-WR-CALDESC:For more information: https://barrytownshipmi.com\n
X-WR-RELCALID:4aa1d78df21fbac0aae24ca7d4968bfb
X-WR-TIMEZONE:America/New_York
BEGIN:VTIMEZONE
TZID:America/New_York
BEGIN:STANDARD
TZNAME:EST
DTSTART:20251102T020000
TZOFFSETFROM:-0400
TZOFFSETTO:-0500
RDATE:20261101T020000
RDATE:20271107T020000
END:STANDARD
BEGIN:DAYLIGHT
TZNAME:EDT
DTSTART:20260308T020000
TZOFFSETFROM:-0500
TZOFFSETTO:-0400
RDATE:20270314T020000
END:DAYLIGHT
END:VTIMEZONE
BEGIN:VEVENT
UID:4fe423a4-5ae8-4009-b461-ef93d961e5fc
DTSTAMP:20260421T052209Z
DESCRIPTION:For more information: https://barrytownshipmi.com\n
DTSTART;TZID=America/New_York:20260512T190000
DTEND;TZID=America/New_York:20260512T200000
LOCATION:11300 M-43 HWY \, Delton\, MI 49046 US
SUMMARY:Barry Township Monthly Meeting
END:VEVENT
END:VCALENDAR
