BEGIN:VCALENDAR
VERSION:2.0
PRODID:-//revitalizedelton.org//NONSGML kigkonsult.se iCalcreator 2.30.10//
CALSCALE:GREGORIAN
METHOD:PUBLISH
UID:87e672cc-0412-420e-9ed3-1a4744eb887e
X-WR-CALDESC:For more information: http://prairievilletwp-mi.org
X-WR-RELCALID:9a85390763e4fbae87d799fc3b0c611f
X-WR-TIMEZONE:America/New_York
BEGIN:VTIMEZONE
TZID:America/New_York
BEGIN:STANDARD
TZNAME:EST
DTSTART:20251102T020000
TZOFFSETFROM:-0400
TZOFFSETTO:-0500
RDATE:20261101T020000
RDATE:20271107T020000
END:STANDARD
BEGIN:DAYLIGHT
TZNAME:EDT
DTSTART:20260308T020000
TZOFFSETFROM:-0500
TZOFFSETTO:-0400
RDATE:20270314T020000
END:DAYLIGHT
END:VTIMEZONE
BEGIN:VEVENT
UID:3b86311b-4fb1-4a67-9318-d193abfe31cb
DTSTAMP:20260421T053721Z
DESCRIPTION:For more information: http://prairievilletwp-mi.org
DTSTART;TZID=America/New_York:20260520T183000
DTEND;TZID=America/New_York:20260520T193000
LOCATION:10115 S Norris Rd\, Delton\, MI 49046 US
SUMMARY:Prairieville Township Board Meeting
END:VEVENT
END:VCALENDAR
