BEGIN:VCALENDAR
VERSION:2.0
PRODID:-//revitalizedelton.org//NONSGML kigkonsult.se iCalcreator 2.30.10//
CALSCALE:GREGORIAN
METHOD:PUBLISH
UID:1b66312f-b33c-43f4-929e-41d42bde73e1
X-WR-CALDESC:
X-WR-RELCALID:088620f3d76dde21175708dbfe48f750
X-WR-TIMEZONE:America/New_York
BEGIN:VTIMEZONE
TZID:America/New_York
BEGIN:STANDARD
TZNAME:EST
DTSTART:20251102T020000
TZOFFSETFROM:-0400
TZOFFSETTO:-0500
RDATE:20261101T020000
RDATE:20271107T020000
END:STANDARD
BEGIN:DAYLIGHT
TZNAME:EDT
DTSTART:20260308T020000
TZOFFSETFROM:-0500
TZOFFSETTO:-0400
RDATE:20270314T020000
END:DAYLIGHT
END:VTIMEZONE
BEGIN:VEVENT
UID:db341f38-b9e7-4e98-a561-41227f206d21
DTSTAMP:20260421T065945Z
DESCRIPTION:
DTSTART;TZID=America/New_York:20260604T190000
DTEND;TZID=America/New_York:20260604T220000
LOCATION:155 E Orchard St\, Delton\, MI 49046 US
SUMMARY:Delton Summer Sounds Presents Brena
END:VEVENT
END:VCALENDAR
