BEGIN:VCALENDAR
VERSION:2.0
PRODID:-//revitalizedelton.org//NONSGML kigkonsult.se iCalcreator 2.30.10//
CALSCALE:GREGORIAN
METHOD:PUBLISH
UID:abd05e04-78dd-4647-8920-b2d3b45723bf
X-WR-CALDESC:
X-WR-RELCALID:95b53b252015a07bbb99520dfd259367
X-WR-TIMEZONE:America/New_York
BEGIN:VTIMEZONE
TZID:America/New_York
BEGIN:STANDARD
TZNAME:EST
DTSTART:20251102T020000
TZOFFSETFROM:-0400
TZOFFSETTO:-0500
RDATE:20261101T020000
RDATE:20271107T020000
END:STANDARD
BEGIN:DAYLIGHT
TZNAME:EDT
DTSTART:20260308T020000
TZOFFSETFROM:-0500
TZOFFSETTO:-0400
RDATE:20270314T020000
END:DAYLIGHT
END:VTIMEZONE
BEGIN:VEVENT
UID:eb02c28e-8251-4ab0-a2df-d3920bb47011
DTSTAMP:20260421T070112Z
DESCRIPTION:
DTSTART;TZID=America/New_York:20260618T190000
DTEND;TZID=America/New_York:20260618T220000
LOCATION:155 E Orchard St\, Delton\, MI 49046 US
SUMMARY:Delton Summer Sounds Presents Celebrating Prince
END:VEVENT
END:VCALENDAR
