BEGIN:VCALENDAR
VERSION:2.0
PRODID:-//revitalizedelton.org//NONSGML kigkonsult.se iCalcreator 2.30.10//
CALSCALE:GREGORIAN
METHOD:PUBLISH
UID:3964fe8a-88ea-4795-9f80-eeee41421ef8
X-WR-CALDESC:
X-WR-RELCALID:50ecf7c56c66d82a7013a08141044656
X-WR-TIMEZONE:America/New_York
BEGIN:VTIMEZONE
TZID:America/New_York
BEGIN:STANDARD
TZNAME:EST
DTSTART:20251102T020000
TZOFFSETFROM:-0400
TZOFFSETTO:-0500
RDATE:20261101T020000
RDATE:20271107T020000
END:STANDARD
BEGIN:DAYLIGHT
TZNAME:EDT
DTSTART:20260308T020000
TZOFFSETFROM:-0500
TZOFFSETTO:-0400
RDATE:20270314T020000
END:DAYLIGHT
END:VTIMEZONE
BEGIN:VEVENT
UID:4bb3f349-da64-40f0-820d-f3fa7e5f4bf4
DTSTAMP:20260421T085126Z
DESCRIPTION:
DTSTART;TZID=America/New_York:20260702T190000
DTEND;TZID=America/New_York:20260702T220000
LOCATION:155 E Orchard St\, Delton\, MI 49046 US
SUMMARY:Delton Summer Sounds Presents Rusty & The Razorblades
END:VEVENT
END:VCALENDAR
