BEGIN:VCALENDAR
VERSION:2.0
PRODID:-//revitalizedelton.org//NONSGML kigkonsult.se iCalcreator 2.30.10//
CALSCALE:GREGORIAN
METHOD:PUBLISH
UID:9d3686f1-a803-482b-9a52-edb3eef27d3c
X-WR-CALDESC:The Hope Township Monthly Meeting is at the Hope Township Hall
  \n\nFor more information: https://www.hopetwp.com\n\n
X-WR-RELCALID:95a0685489425d464f96113a69664fa3
X-WR-TIMEZONE:America/New_York
BEGIN:VTIMEZONE
TZID:America/New_York
BEGIN:STANDARD
TZNAME:EST
DTSTART:20251102T020000
TZOFFSETFROM:-0400
TZOFFSETTO:-0500
RDATE:20261101T020000
RDATE:20271107T020000
END:STANDARD
BEGIN:DAYLIGHT
TZNAME:EDT
DTSTART:20260308T020000
TZOFFSETFROM:-0500
TZOFFSETTO:-0400
RDATE:20270314T020000
END:DAYLIGHT
END:VTIMEZONE
BEGIN:VEVENT
UID:2788aedd-c93c-4d78-8c6f-61a74deab714
DTSTAMP:20260421T085709Z
DESCRIPTION:The Hope Township Monthly Meeting is at the Hope Township Hall 
 \n\nFor more information: https://www.hopetwp.com\n\n
DTSTART;TZID=America/New_York:20260713T183000
DTEND;TZID=America/New_York:20260713T193000
LOCATION:5463 M-43 HWY\, Hastings\, MI 49058 US
SUMMARY:Hope Township Monthly Meeting
END:VEVENT
END:VCALENDAR
