BEGIN:VCALENDAR
VERSION:2.0
PRODID:-//revitalizedelton.org//NONSGML kigkonsult.se iCalcreator 2.30.10//
CALSCALE:GREGORIAN
METHOD:PUBLISH
UID:228e2fed-4739-40bd-b601-ba06add15704
X-WR-CALDESC:For more information: http://prairievilletwp-mi.org
X-WR-RELCALID:d340cb61636b263c1e69cf089c7c35bc
X-WR-TIMEZONE:America/New_York
BEGIN:VTIMEZONE
TZID:America/New_York
BEGIN:STANDARD
TZNAME:EST
DTSTART:20251102T020000
TZOFFSETFROM:-0400
TZOFFSETTO:-0500
RDATE:20261101T020000
RDATE:20271107T020000
END:STANDARD
BEGIN:DAYLIGHT
TZNAME:EDT
DTSTART:20260308T020000
TZOFFSETFROM:-0500
TZOFFSETTO:-0400
RDATE:20270314T020000
END:DAYLIGHT
END:VTIMEZONE
BEGIN:VEVENT
UID:b1151512-a34a-4bf1-8b95-36e25e3cd12e
DTSTAMP:20260421T091737Z
DESCRIPTION:For more information: http://prairievilletwp-mi.org
DTSTART;TZID=America/New_York:20260715T183000
DTEND;TZID=America/New_York:20260715T193000
LOCATION:10115 S Norris Rd\, Delton\, MI 49046 US
SUMMARY:Prairieville Township Board Meeting
END:VEVENT
END:VCALENDAR
