BEGIN:VCALENDAR
VERSION:2.0
PRODID:-//revitalizedelton.org//NONSGML kigkonsult.se iCalcreator 2.30.10//
CALSCALE:GREGORIAN
METHOD:PUBLISH
UID:846cbb7a-a40f-4c10-9463-1ce84add27b4
X-WR-CALDESC:
X-WR-RELCALID:67fe51d4dd2326df2e5ffa1e8d4016e9
X-WR-TIMEZONE:America/New_York
BEGIN:VTIMEZONE
TZID:America/New_York
BEGIN:STANDARD
TZNAME:EST
DTSTART:20251102T020000
TZOFFSETFROM:-0400
TZOFFSETTO:-0500
RDATE:20261101T020000
RDATE:20271107T020000
END:STANDARD
BEGIN:DAYLIGHT
TZNAME:EDT
DTSTART:20260308T020000
TZOFFSETFROM:-0500
TZOFFSETTO:-0400
RDATE:20270314T020000
END:DAYLIGHT
END:VTIMEZONE
BEGIN:VEVENT
UID:e17d5faf-5ffa-4d01-8645-4d99d964f84c
DTSTAMP:20260421T085006Z
DESCRIPTION:
DTSTART;TZID=America/New_York:20260716T190000
DTEND;TZID=America/New_York:20260716T220000
LOCATION:155 E Orchard St\, Delton\, MI 49046 US
SUMMARY:Delton Summer Sounds Presents OCD/C
END:VEVENT
END:VCALENDAR
