BEGIN:VCALENDAR
VERSION:2.0
PRODID:-//revitalizedelton.org//NONSGML kigkonsult.se iCalcreator 2.30.10//
CALSCALE:GREGORIAN
METHOD:PUBLISH
UID:052e171f-c60a-4252-a238-2b5d8d5e1054
X-WR-CALDESC:
X-WR-RELCALID:165c276219298dc08899991f490bfce8
X-WR-TIMEZONE:America/New_York
BEGIN:VTIMEZONE
TZID:America/New_York
BEGIN:STANDARD
TZNAME:EST
DTSTART:20251102T020000
TZOFFSETFROM:-0400
TZOFFSETTO:-0500
RDATE:20261101T020000
RDATE:20271107T020000
END:STANDARD
BEGIN:DAYLIGHT
TZNAME:EDT
DTSTART:20260308T020000
TZOFFSETFROM:-0500
TZOFFSETTO:-0400
RDATE:20270314T020000
END:DAYLIGHT
END:VTIMEZONE
BEGIN:VEVENT
UID:8e4fb86e-53ee-436b-9828-05bb78519bc7
DTSTAMP:20260421T085157Z
DESCRIPTION:
DTSTART;TZID=America/New_York:20260730T190000
DTEND;TZID=America/New_York:20260730T220000
LOCATION:155 E Orchard St\, Delton\, MI 49046 US
SUMMARY:Delton Summer Sounds Presents Fleetwood Magic
END:VEVENT
END:VCALENDAR
