BEGIN:VCALENDAR
VERSION:2.0
PRODID:-//revitalizedelton.org//NONSGML kigkonsult.se iCalcreator 2.30.10//
CALSCALE:GREGORIAN
METHOD:PUBLISH
UID:704596be-8205-4b77-ac7a-4a08a3dec906
X-WR-CALDESC:For more information: https://barrytownshipmi.com\n
X-WR-RELCALID:f4f6ff86f499a2512d2c93c3533f579e
X-WR-TIMEZONE:America/New_York
BEGIN:VTIMEZONE
TZID:America/New_York
BEGIN:STANDARD
TZNAME:EST
DTSTART:20251102T020000
TZOFFSETFROM:-0400
TZOFFSETTO:-0500
RDATE:20261101T020000
RDATE:20271107T020000
END:STANDARD
BEGIN:DAYLIGHT
TZNAME:EDT
DTSTART:20260308T020000
TZOFFSETFROM:-0500
TZOFFSETTO:-0400
RDATE:20270314T020000
END:DAYLIGHT
END:VTIMEZONE
BEGIN:VEVENT
UID:91fa4ba3-1c4b-4f30-b268-0208db2c286c
DTSTAMP:20260421T110537Z
DESCRIPTION:For more information: https://barrytownshipmi.com\n
DTSTART;TZID=America/New_York:20260811T190000
DTEND;TZID=America/New_York:20260811T200000
LOCATION:11300 M-43 HWY \, Delton\, MI 49046 US
SUMMARY:Barry Township Monthly Meeting
END:VEVENT
END:VCALENDAR
