BEGIN:VCALENDAR
VERSION:2.0
PRODID:-//revitalizedelton.org//NONSGML kigkonsult.se iCalcreator 2.30.10//
CALSCALE:GREGORIAN
METHOD:PUBLISH
UID:ac92efe4-f3ff-43c8-9897-8c241c466917
X-WR-CALDESC:
X-WR-RELCALID:3fc7f8b23b72a90b538942512d191303
X-WR-TIMEZONE:America/New_York
BEGIN:VTIMEZONE
TZID:America/New_York
BEGIN:STANDARD
TZNAME:EST
DTSTART:20251102T020000
TZOFFSETFROM:-0400
TZOFFSETTO:-0500
RDATE:20261101T020000
RDATE:20271107T020000
END:STANDARD
BEGIN:DAYLIGHT
TZNAME:EDT
DTSTART:20260308T020000
TZOFFSETFROM:-0500
TZOFFSETTO:-0400
RDATE:20270314T020000
END:DAYLIGHT
END:VTIMEZONE
BEGIN:VEVENT
UID:ff49b028-df23-4516-8aa2-0952bfeaf83b
DTSTAMP:20260421T110726Z
DESCRIPTION:
DTSTART;TZID=America/New_York:20260813T190000
DTEND;TZID=America/New_York:20260813T220000
LOCATION:155 E Orchard St\, Delton\, MI 49046 US
SUMMARY:Delton Summer Sounds Presents Hairmania
END:VEVENT
END:VCALENDAR
