BEGIN:VCALENDAR
VERSION:2.0
PRODID:-//revitalizedelton.org//NONSGML kigkonsult.se iCalcreator 2.30.10//
CALSCALE:GREGORIAN
METHOD:PUBLISH
UID:9eeee411-c269-4aff-acb2-ab016883bcb5
X-WR-CALDESC:Join us in the Delton-Kellogg High School LGI
X-WR-RELCALID:2b92fefe47d0b95086a33a8c0ecbc7dc
X-WR-TIMEZONE:America/New_York
BEGIN:VTIMEZONE
TZID:America/New_York
BEGIN:STANDARD
TZNAME:EST
DTSTART:20251102T020000
TZOFFSETFROM:-0400
TZOFFSETTO:-0500
RDATE:20261101T020000
RDATE:20271107T020000
END:STANDARD
BEGIN:DAYLIGHT
TZNAME:EDT
DTSTART:20260308T020000
TZOFFSETFROM:-0500
TZOFFSETTO:-0400
RDATE:20270314T020000
END:DAYLIGHT
END:VTIMEZONE
BEGIN:VEVENT
UID:d2c1a921-ac4e-4d85-9fce-aa58fed172eb
DTSTAMP:20260421T110513Z
DESCRIPTION:Join us in the Delton-Kellogg High School LGI
DTSTART;TZID=America/New_York:20260826T183000
DTEND;TZID=America/New_York:20260826T200000
LOCATION:10425 Panther Pride Dr\, Delton\, MI 49046 US
SUMMARY:Revitalize Delton Meeting
END:VEVENT
END:VCALENDAR
