BEGIN:VCALENDAR
VERSION:2.0
PRODID:-//revitalizedelton.org//NONSGML kigkonsult.se iCalcreator 2.30.10//
CALSCALE:GREGORIAN
METHOD:PUBLISH
UID:fa2d213c-1ae0-4837-b2d5-098570d066e3
X-WR-CALDESC:Join us in the Delton-Kellogg High School LGI
X-WR-RELCALID:8bafddf13d8dd97c0a5018e147a01d02
X-WR-TIMEZONE:America/New_York
BEGIN:VTIMEZONE
TZID:America/New_York
BEGIN:STANDARD
TZNAME:EST
DTSTART:20251102T020000
TZOFFSETFROM:-0400
TZOFFSETTO:-0500
RDATE:20261101T020000
RDATE:20271107T020000
END:STANDARD
BEGIN:DAYLIGHT
TZNAME:EDT
DTSTART:20260308T020000
TZOFFSETFROM:-0500
TZOFFSETTO:-0400
RDATE:20270314T020000
RDATE:20280312T020000
END:DAYLIGHT
END:VTIMEZONE
BEGIN:VEVENT
UID:6eee0ada-ada6-46f9-bd99-fcb7030a8c03
DTSTAMP:20260421T144038Z
DESCRIPTION:Join us in the Delton-Kellogg High School LGI
DTSTART;TZID=America/New_York:20261028T183000
DTEND;TZID=America/New_York:20261028T200000
LOCATION:10425 Panther Pride Dr\, Delton\, MI 49046 US
SUMMARY:Revitalize Delton Meeting
END:VEVENT
END:VCALENDAR
