BEGIN:VCALENDAR
VERSION:2.0
PRODID:-//revitalizedelton.org//NONSGML kigkonsult.se iCalcreator 2.30.10//
CALSCALE:GREGORIAN
METHOD:PUBLISH
UID:f8181c9d-a2cc-4d1f-9ebc-611d20c02019
X-WR-CALDESC:The Hope Township Monthly Meeting is at the Hope Township Hall
  \n\nFor more information: https://www.hopetwp.com\n\n
X-WR-RELCALID:679b0b8611610b647164f88abbef665d
X-WR-TIMEZONE:America/New_York
BEGIN:VTIMEZONE
TZID:America/New_York
BEGIN:STANDARD
TZNAME:EST
DTSTART:20261101T020000
TZOFFSETFROM:-0400
TZOFFSETTO:-0500
RDATE:20271107T020000
END:STANDARD
BEGIN:DAYLIGHT
TZNAME:EDT
DTSTART:20260308T020000
TZOFFSETFROM:-0500
TZOFFSETTO:-0400
RDATE:20270314T020000
RDATE:20280312T020000
END:DAYLIGHT
END:VTIMEZONE
BEGIN:VEVENT
UID:fd826d22-07c0-4ae4-a6d3-1f8668fbaa43
DTSTAMP:20260421T161107Z
DESCRIPTION:The Hope Township Monthly Meeting is at the Hope Township Hall 
 \n\nFor more information: https://www.hopetwp.com\n\n
DTSTART;TZID=America/New_York:20261109T183000
DTEND;TZID=America/New_York:20261109T193000
LOCATION:5463 M-43 HWY\, Hastings\, MI 49058 US
SUMMARY:Hope Township Monthly Meeting
END:VEVENT
END:VCALENDAR
