BEGIN:VCALENDAR
VERSION:2.0
PRODID:-//revitalizedelton.org//NONSGML kigkonsult.se iCalcreator 2.30.10//
CALSCALE:GREGORIAN
METHOD:PUBLISH
UID:9616dd52-8121-4360-af04-7bb98a0d5fcd
X-WR-CALDESC:Join the Founders Festival Committee in planning out the annua
 l Delton Founders Festival
X-WR-RELCALID:545186757f828798d77b971c59a95c55
X-WR-TIMEZONE:America/New_York
BEGIN:VTIMEZONE
TZID:America/New_York
BEGIN:STANDARD
TZNAME:EST
DTSTART:20261101T020000
TZOFFSETFROM:-0400
TZOFFSETTO:-0500
RDATE:20271107T020000
END:STANDARD
BEGIN:DAYLIGHT
TZNAME:EDT
DTSTART:20260308T020000
TZOFFSETFROM:-0500
TZOFFSETTO:-0400
RDATE:20270314T020000
RDATE:20280312T020000
END:DAYLIGHT
END:VTIMEZONE
BEGIN:VEVENT
UID:0334c96e-e871-47ca-9848-822225c51f93
DTSTAMP:20260421T161621Z
DESCRIPTION:Join the Founders Festival Committee in planning out the annual
  Delton Founders Festival
DTSTART;TZID=America/New_York:20261110T180000
DTEND;TZID=America/New_York:20261110T190000
LOCATION:155 E Orchard St\, Delton\, MI 49046 US
SUMMARY:Delton Founder's Festival Committee Meeting
END:VEVENT
END:VCALENDAR
