BEGIN:VCALENDAR
VERSION:2.0
PRODID:-//revitalizedelton.org//NONSGML kigkonsult.se iCalcreator 2.30.10//
CALSCALE:GREGORIAN
METHOD:PUBLISH
UID:371b7cd5-f716-42e4-99e5-17d96189b082
X-WR-CALDESC:School Board Meetings take place in the Elementary Library\n\n
 https://www.dkschools.org/page/board-of-education-meetings
X-WR-RELCALID:55a6a9b7504915bff1fe93b705314132
X-WR-TIMEZONE:America/New_York
BEGIN:VTIMEZONE
TZID:America/New_York
BEGIN:STANDARD
TZNAME:EST
DTSTART:20261101T020000
TZOFFSETFROM:-0400
TZOFFSETTO:-0500
RDATE:20271107T020000
END:STANDARD
BEGIN:DAYLIGHT
TZNAME:EDT
DTSTART:20260308T020000
TZOFFSETFROM:-0500
TZOFFSETTO:-0400
RDATE:20270314T020000
RDATE:20280312T020000
END:DAYLIGHT
END:VTIMEZONE
BEGIN:VEVENT
UID:2b7a03e2-f36d-4987-ade1-1a3f647486d3
DTSTAMP:20260421T162114Z
DESCRIPTION:School Board Meetings take place in the Elementary Library\n\nh
 ttps://www.dkschools.org/page/board-of-education-meetings
DTSTART;TZID=America/New_York:20261117T190000
DTEND;TZID=America/New_York:20261117T210000
LOCATION:327 N Grove St\, Delton\, MI 49046 US
SUMMARY:Delton Kellogg School Board Meeting
END:VEVENT
END:VCALENDAR
