BEGIN:VCALENDAR
VERSION:2.0
PRODID:-//revitalizedelton.org//NONSGML kigkonsult.se iCalcreator 2.30.10//
CALSCALE:GREGORIAN
METHOD:PUBLISH
UID:65322e08-4437-4c8c-b791-de0df376be11
X-WR-CALDESC:Join us in the Delton-Kellogg High School LGI
X-WR-RELCALID:41378bc93539128cad88956536a83b9a
X-WR-TIMEZONE:America/New_York
BEGIN:VTIMEZONE
TZID:America/New_York
BEGIN:STANDARD
TZNAME:EST
DTSTART:20261101T020000
TZOFFSETFROM:-0400
TZOFFSETTO:-0500
RDATE:20271107T020000
END:STANDARD
BEGIN:DAYLIGHT
TZNAME:EDT
DTSTART:20260308T020000
TZOFFSETFROM:-0500
TZOFFSETTO:-0400
RDATE:20270314T020000
RDATE:20280312T020000
END:DAYLIGHT
END:VTIMEZONE
BEGIN:VEVENT
UID:44f74cf3-2388-474c-91db-859f4f870c86
DTSTAMP:20260421T180731Z
DESCRIPTION:Join us in the Delton-Kellogg High School LGI
DTSTART;TZID=America/New_York:20261223T183000
DTEND;TZID=America/New_York:20261223T200000
LOCATION:10425 Panther Pride Dr\, Delton\, MI 49046 US
SUMMARY:Revitalize Delton Meeting
END:VEVENT
END:VCALENDAR
