BEGIN:VCALENDAR
VERSION:2.0
PRODID:-//revitalizedelton.org//NONSGML kigkonsult.se iCalcreator 2.30.10//
CALSCALE:GREGORIAN
METHOD:PUBLISH
UID:4162af37-519b-43af-8e56-686a15ad63dc
X-WR-CALDESC:For more information: http://prairievilletwp-mi.org
X-WR-RELCALID:d1426d685fe0fa1e4e559bfe250674b6
X-WR-TIMEZONE:America/New_York
BEGIN:VTIMEZONE
TZID:America/New_York
BEGIN:STANDARD
TZNAME:EST
DTSTART:20261101T020000
TZOFFSETFROM:-0400
TZOFFSETTO:-0500
RDATE:20271107T020000
END:STANDARD
BEGIN:DAYLIGHT
TZNAME:EDT
DTSTART:20260308T020000
TZOFFSETFROM:-0500
TZOFFSETTO:-0400
RDATE:20270314T020000
RDATE:20280312T020000
END:DAYLIGHT
END:VTIMEZONE
BEGIN:VEVENT
UID:d25d75d3-d996-445d-a4a0-7040094a82a8
DTSTAMP:20260421T193912Z
DESCRIPTION:For more information: http://prairievilletwp-mi.org
DTSTART;TZID=America/New_York:20270120T183000
DTEND;TZID=America/New_York:20270120T193000
LOCATION:10115 S Norris Rd\, Delton\, MI 49046 US
SUMMARY:Prairieville Township Board Meeting
END:VEVENT
END:VCALENDAR
