BEGIN:VCALENDAR
VERSION:2.0
PRODID:-//revitalizedelton.org//NONSGML kigkonsult.se iCalcreator 2.30.10//
CALSCALE:GREGORIAN
METHOD:PUBLISH
UID:e4fc9685-d3b9-4c1a-badb-651f5719c16d
X-WR-CALDESC:http://prairievilletwp-mi.org
X-WR-RELCALID:33dc1640a1752d5e5afb5f813313a636
X-WR-TIMEZONE:America/New_York
BEGIN:VTIMEZONE
TZID:America/New_York
BEGIN:STANDARD
TZNAME:EST
DTSTART:20261101T020000
TZOFFSETFROM:-0400
TZOFFSETTO:-0500
RDATE:20271107T020000
END:STANDARD
BEGIN:DAYLIGHT
TZNAME:EDT
DTSTART:20260308T020000
TZOFFSETFROM:-0500
TZOFFSETTO:-0400
RDATE:20270314T020000
RDATE:20280312T020000
END:DAYLIGHT
END:VTIMEZONE
BEGIN:VEVENT
UID:7ccb551d-669c-450a-8d06-1c69e80ca080
DTSTAMP:20260421T214339Z
DESCRIPTION:http://prairievilletwp-mi.org
DTSTART;TZID=America/New_York:20270211T190000
DTEND;TZID=America/New_York:20270211T200000
LOCATION:10115 S Norris Rd\, Delton\, MI 49046 US
SUMMARY:Prairieville Township Planning Commission Meeting
END:VEVENT
END:VCALENDAR
