BEGIN:VCALENDAR
VERSION:2.0
PRODID:-//revitalizedelton.org//NONSGML kigkonsult.se iCalcreator 2.30.10//
CALSCALE:GREGORIAN
METHOD:PUBLISH
UID:f83e69d0-bad4-4460-a577-5fb82282e00b
X-WR-CALDESC:http://prairievilletwp-mi.org
X-WR-RELCALID:da435c611e9a7cfd500abf2132e799fd
X-WR-TIMEZONE:America/New_York
BEGIN:VTIMEZONE
TZID:America/New_York
BEGIN:STANDARD
TZNAME:EST
DTSTART:20261101T020000
TZOFFSETFROM:-0400
TZOFFSETTO:-0500
RDATE:20271107T020000
END:STANDARD
BEGIN:DAYLIGHT
TZNAME:EDT
DTSTART:20270314T020000
TZOFFSETFROM:-0500
TZOFFSETTO:-0400
RDATE:20280312T020000
END:DAYLIGHT
END:VTIMEZONE
BEGIN:VEVENT
UID:0ae4d2ae-1cf3-41e7-bfc9-03dc6aa209a9
DTSTAMP:20260421T233009Z
DESCRIPTION:http://prairievilletwp-mi.org
DTSTART;TZID=America/New_York:20270311T190000
DTEND;TZID=America/New_York:20270311T200000
LOCATION:10115 S Norris Rd\, Delton\, MI 49046 US
SUMMARY:Prairieville Township Planning Commission Meeting
END:VEVENT
END:VCALENDAR
