BEGIN:VCALENDAR
VERSION:2.0
PRODID:-//revitalizedelton.org//NONSGML kigkonsult.se iCalcreator 2.30.10//
CALSCALE:GREGORIAN
METHOD:PUBLISH
UID:13ddf25d-34d9-4216-9017-a64fee9fb271
X-WR-CALDESC:http://prairievilletwp-mi.org
X-WR-RELCALID:6dc2b223a77c14c0fd8eb8b77e56738d
X-WR-TIMEZONE:America/New_York
BEGIN:VTIMEZONE
TZID:America/New_York
BEGIN:STANDARD
TZNAME:EST
DTSTART:20261101T020000
TZOFFSETFROM:-0400
TZOFFSETTO:-0500
RDATE:20271107T020000
END:STANDARD
BEGIN:DAYLIGHT
TZNAME:EDT
DTSTART:20270314T020000
TZOFFSETFROM:-0500
TZOFFSETTO:-0400
RDATE:20280312T020000
END:DAYLIGHT
END:VTIMEZONE
BEGIN:VEVENT
UID:0508a66b-8e1e-4522-93bb-05f4575d7ec2
DTSTAMP:20260422T010458Z
DESCRIPTION:http://prairievilletwp-mi.org
DTSTART;TZID=America/New_York:20270408T190000
DTEND;TZID=America/New_York:20270408T200000
LOCATION:10115 S Norris Rd\, Delton\, MI 49046 US
SUMMARY:Prairieville Township Planning Commission Meeting
END:VEVENT
END:VCALENDAR
