BEGIN:VCALENDAR
VERSION:2.0
PRODID:-//revitalizedelton.org//NONSGML kigkonsult.se iCalcreator 2.30.10//
CALSCALE:GREGORIAN
METHOD:PUBLISH
UID:088c18ac-1c5e-4d73-b184-b5aec93bb040
X-WR-CALDESC:http://prairievilletwp-mi.org
X-WR-RELCALID:d3be2314921ba9b31946b3ee15403cab
X-WR-TIMEZONE:America/New_York
BEGIN:VTIMEZONE
TZID:America/New_York
BEGIN:STANDARD
TZNAME:EST
DTSTART:20261101T020000
TZOFFSETFROM:-0400
TZOFFSETTO:-0500
RDATE:20271107T020000
RDATE:20281105T020000
END:STANDARD
BEGIN:DAYLIGHT
TZNAME:EDT
DTSTART:20270314T020000
TZOFFSETFROM:-0500
TZOFFSETTO:-0400
RDATE:20280312T020000
END:DAYLIGHT
END:VTIMEZONE
BEGIN:VEVENT
UID:2cfee160-05dc-41f5-aa3e-d4dd302440de
DTSTAMP:20260422T032154Z
DESCRIPTION:http://prairievilletwp-mi.org
DTSTART;TZID=America/New_York:20270513T190000
DTEND;TZID=America/New_York:20270513T200000
LOCATION:10115 S Norris Rd\, Delton\, MI 49046 US
SUMMARY:Prairieville Township Planning Commission Meeting
END:VEVENT
END:VCALENDAR
