BEGIN:VCALENDAR
VERSION:2.0
PRODID:-//revitalizedelton.org//NONSGML kigkonsult.se iCalcreator 2.30.10//
CALSCALE:GREGORIAN
METHOD:PUBLISH
UID:c140b4b2-dc0c-4e5c-8e78-cc69d3dde016
X-WR-CALDESC:http://prairievilletwp-mi.org
X-WR-RELCALID:0bc96e4692651a4988301ec4032d854b
X-WR-TIMEZONE:America/New_York
BEGIN:VTIMEZONE
TZID:America/New_York
BEGIN:STANDARD
TZNAME:EST
DTSTART:20261101T020000
TZOFFSETFROM:-0400
TZOFFSETTO:-0500
RDATE:20271107T020000
RDATE:20281105T020000
END:STANDARD
BEGIN:DAYLIGHT
TZNAME:EDT
DTSTART:20270314T020000
TZOFFSETFROM:-0500
TZOFFSETTO:-0400
RDATE:20280312T020000
END:DAYLIGHT
END:VTIMEZONE
BEGIN:VEVENT
UID:8150eca6-38d7-4a32-a1b7-e714fbd4ea55
DTSTAMP:20260422T043107Z
DESCRIPTION:http://prairievilletwp-mi.org
DTSTART;TZID=America/New_York:20270610T190000
DTEND;TZID=America/New_York:20270610T200000
LOCATION:10115 S Norris Rd\, Delton\, MI 49046 US
SUMMARY:Prairieville Township Planning Commission Meeting
END:VEVENT
END:VCALENDAR
