BEGIN:VCALENDAR
VERSION:2.0
PRODID:-//revitalizedelton.org//NONSGML kigkonsult.se iCalcreator 2.30.10//
CALSCALE:GREGORIAN
METHOD:PUBLISH
UID:bdc3ca1c-329d-4204-b997-828a49580dc5
X-WR-CALDESC:School Board Meetings take place in the Elementary Library\n\n
 https://www.dkschools.org/page/board-of-education-meetings
X-WR-RELCALID:ab5266e57894c089419954a421202c6e
X-WR-TIMEZONE:America/New_York
BEGIN:VTIMEZONE
TZID:America/New_York
BEGIN:STANDARD
TZNAME:EST
DTSTART:20261101T020000
TZOFFSETFROM:-0400
TZOFFSETTO:-0500
RDATE:20271107T020000
RDATE:20281105T020000
END:STANDARD
BEGIN:DAYLIGHT
TZNAME:EDT
DTSTART:20270314T020000
TZOFFSETFROM:-0500
TZOFFSETTO:-0400
RDATE:20280312T020000
END:DAYLIGHT
END:VTIMEZONE
BEGIN:VEVENT
UID:a30efab7-c29e-48b8-a8b2-2e8cdecef398
DTSTAMP:20260422T044710Z
DESCRIPTION:School Board Meetings take place in the Elementary Library\n\nh
 ttps://www.dkschools.org/page/board-of-education-meetings
DTSTART;TZID=America/New_York:20270615T190000
DTEND;TZID=America/New_York:20270615T210000
LOCATION:327 N Grove St\, Delton\, MI 49046 US
SUMMARY:Delton Kellogg School Board Meeting
END:VEVENT
END:VCALENDAR
