BEGIN:VCALENDAR
VERSION:2.0
PRODID:-//revitalizedelton.org//NONSGML kigkonsult.se iCalcreator 2.30.10//
CALSCALE:GREGORIAN
METHOD:PUBLISH
UID:a858c380-0206-409b-ab84-4d815d812402
X-WR-CALDESC:For more information: https://www.orangevilletownship.org
X-WR-RELCALID:6f0b3c6135a75afce6e6c4297a1af22a
X-WR-TIMEZONE:America/New_York
BEGIN:VTIMEZONE
TZID:America/New_York
BEGIN:STANDARD
TZNAME:EST
DTSTART:20261101T020000
TZOFFSETFROM:-0400
TZOFFSETTO:-0500
RDATE:20271107T020000
RDATE:20281105T020000
END:STANDARD
BEGIN:DAYLIGHT
TZNAME:EDT
DTSTART:20270314T020000
TZOFFSETFROM:-0500
TZOFFSETTO:-0400
RDATE:20280312T020000
END:DAYLIGHT
END:VTIMEZONE
BEGIN:VEVENT
UID:73393536-9e1a-4dc8-928e-b1439c127486
DTSTAMP:20260422T061210Z
DESCRIPTION:For more information: https://www.orangevilletownship.org
DTSTART;TZID=America/New_York:20270706T190000
DTEND;TZID=America/New_York:20270706T200000
LOCATION:7350 Lindsey Rd\, Plainwell\, MI 49080 US
SUMMARY:Orangeville Township Monthly Meeting
END:VEVENT
END:VCALENDAR
