BEGIN:VCALENDAR
VERSION:2.0
PRODID:-//revitalizedelton.org//NONSGML kigkonsult.se iCalcreator 2.30.10//
CALSCALE:GREGORIAN
METHOD:PUBLISH
UID:67f47b6f-cf73-43ac-bcff-7733c48e608f
X-WR-CALDESC:For more information: http://prairievilletwp-mi.org
X-WR-RELCALID:ce30d4c6846025526910a1d50ebd44da
X-WR-TIMEZONE:America/New_York
BEGIN:VTIMEZONE
TZID:America/New_York
BEGIN:STANDARD
TZNAME:EST
DTSTART:20261101T020000
TZOFFSETFROM:-0400
TZOFFSETTO:-0500
RDATE:20271107T020000
RDATE:20281105T020000
END:STANDARD
BEGIN:DAYLIGHT
TZNAME:EDT
DTSTART:20270314T020000
TZOFFSETFROM:-0500
TZOFFSETTO:-0400
RDATE:20280312T020000
END:DAYLIGHT
END:VTIMEZONE
BEGIN:VEVENT
UID:a08b4f09-a377-4a9f-9c4f-48846da72ba2
DTSTAMP:20260422T081959Z
DESCRIPTION:For more information: http://prairievilletwp-mi.org
DTSTART;TZID=America/New_York:20270818T183000
DTEND;TZID=America/New_York:20270818T193000
LOCATION:10115 S Norris Rd\, Delton\, MI 49046 US
SUMMARY:Prairieville Township Board Meeting
END:VEVENT
END:VCALENDAR
