BEGIN:VCALENDAR
VERSION:2.0
PRODID:-//revitalizedelton.org//NONSGML kigkonsult.se iCalcreator 2.30.10//
CALSCALE:GREGORIAN
METHOD:PUBLISH
UID:5f17021b-9f9e-4b29-a099-bf024b359856
X-WR-CALDESC:Join the Founders Festival Committee in planning out the annua
 l Delton Founders Festival
X-WR-RELCALID:fbce25a29c347a78661017750ed95c3e
X-WR-TIMEZONE:America/New_York
BEGIN:VTIMEZONE
TZID:America/New_York
BEGIN:STANDARD
TZNAME:EST
DTSTART:20261101T020000
TZOFFSETFROM:-0400
TZOFFSETTO:-0500
RDATE:20271107T020000
RDATE:20281105T020000
END:STANDARD
BEGIN:DAYLIGHT
TZNAME:EDT
DTSTART:20270314T020000
TZOFFSETFROM:-0500
TZOFFSETTO:-0400
RDATE:20280312T020000
RDATE:20290311T020000
END:DAYLIGHT
END:VTIMEZONE
BEGIN:VEVENT
UID:2b9b0c02-7735-4709-b839-a23a38ba625d
DTSTAMP:20260422T095714Z
DESCRIPTION:Join the Founders Festival Committee in planning out the annual
  Delton Founders Festival
DTSTART;TZID=America/New_York:20270914T180000
DTEND;TZID=America/New_York:20270914T190000
LOCATION:155 E Orchard St\, Delton\, MI 49046 US
SUMMARY:Delton Founder's Festival Committee Meeting
END:VEVENT
END:VCALENDAR
