BEGIN:VCALENDAR
VERSION:2.0
PRODID:-//revitalizedelton.org//NONSGML kigkonsult.se iCalcreator 2.30.10//
CALSCALE:GREGORIAN
METHOD:PUBLISH
UID:e7eefdc8-c86b-42c6-a73a-cbc318c206a1
X-WR-CALDESC:The Hope Township Monthly Meeting is at the Hope Township Hall
  \n\nFor more information: https://www.hopetwp.com\n\n
X-WR-RELCALID:8484c5f37dca42e2edd4f03351792bc4
X-WR-TIMEZONE:America/New_York
BEGIN:VTIMEZONE
TZID:America/New_York
BEGIN:STANDARD
TZNAME:EST
DTSTART:20261101T020000
TZOFFSETFROM:-0400
TZOFFSETTO:-0500
RDATE:20271107T020000
RDATE:20281105T020000
END:STANDARD
BEGIN:DAYLIGHT
TZNAME:EDT
DTSTART:20270314T020000
TZOFFSETFROM:-0500
TZOFFSETTO:-0400
RDATE:20280312T020000
RDATE:20290311T020000
END:DAYLIGHT
END:VTIMEZONE
BEGIN:VEVENT
UID:9cde3f26-6766-4650-8a57-b8ad224c0264
DTSTAMP:20260422T114410Z
DESCRIPTION:The Hope Township Monthly Meeting is at the Hope Township Hall 
 \n\nFor more information: https://www.hopetwp.com\n\n
DTSTART;TZID=America/New_York:20271011T183000
DTEND;TZID=America/New_York:20271011T193000
LOCATION:5463 M-43 HWY\, Hastings\, MI 49058 US
SUMMARY:Hope Township Monthly Meeting
END:VEVENT
END:VCALENDAR
