BEGIN:VCALENDAR
VERSION:2.0
PRODID:-//revitalizedelton.org//NONSGML kigkonsult.se iCalcreator 2.30.10//
CALSCALE:GREGORIAN
METHOD:PUBLISH
UID:69137aad-e870-4721-96ae-2ae6c93d8a6a
X-WR-CALDESC:Delton Rotary Club meets weekly on Thursdays in the Library. C
 heck out their Facebook for more info \nhttps://www.facebook.com/DeltonMIR
 otary/
X-WR-RELCALID:ca5a2fd2bf1b370391e0fff7a5715558
X-WR-TIMEZONE:America/New_York
BEGIN:VTIMEZONE
TZID:America/New_York
BEGIN:STANDARD
TZNAME:EST
DTSTART:20271107T020000
TZOFFSETFROM:-0400
TZOFFSETTO:-0500
RDATE:20281105T020000
END:STANDARD
BEGIN:DAYLIGHT
TZNAME:EDT
DTSTART:20270314T020000
TZOFFSETFROM:-0500
TZOFFSETTO:-0400
RDATE:20280312T020000
RDATE:20290311T020000
END:DAYLIGHT
END:VTIMEZONE
BEGIN:VEVENT
UID:ff3486a5-6c9b-43ae-9974-4549d8b3df7e
DTSTAMP:20260422T150000Z
DESCRIPTION:Delton Rotary Club meets weekly on Thursdays in the Library. Ch
 eck out their Facebook for more info \nhttps://www.facebook.com/DeltonMIRo
 tary/
DTSTART;TZID=America/New_York:20271202T080000
DTEND;TZID=America/New_York:20271202T090000
LOCATION:330 N Grove St \, Delton\, MI 49046 US
SUMMARY:Rotary Club Meeting
END:VEVENT
END:VCALENDAR
