BEGIN:VCALENDAR
VERSION:2.0
PRODID:-//revitalizedelton.org//NONSGML kigkonsult.se iCalcreator 2.30.10//
CALSCALE:GREGORIAN
METHOD:PUBLISH
UID:29856e22-cb9a-4e04-aad5-d40d1097ce91
X-WR-CALDESC:http://prairievilletwp-mi.org
X-WR-RELCALID:f8d91d6f2622d27d19d4e9371fe8b694
X-WR-TIMEZONE:America/New_York
BEGIN:VTIMEZONE
TZID:America/New_York
BEGIN:STANDARD
TZNAME:EST
DTSTART:20271107T020000
TZOFFSETFROM:-0400
TZOFFSETTO:-0500
RDATE:20281105T020000
END:STANDARD
BEGIN:DAYLIGHT
TZNAME:EDT
DTSTART:20270314T020000
TZOFFSETFROM:-0500
TZOFFSETTO:-0400
RDATE:20280312T020000
RDATE:20290311T020000
END:DAYLIGHT
END:VTIMEZONE
BEGIN:VEVENT
UID:f3092391-a0d6-495f-93ef-e18bbaa32600
DTSTAMP:20260422T145541Z
DESCRIPTION:http://prairievilletwp-mi.org
DTSTART;TZID=America/New_York:20271209T190000
DTEND;TZID=America/New_York:20271209T200000
LOCATION:10115 S Norris Rd\, Delton\, MI 49046 US
SUMMARY:Prairieville Township Planning Commission Meeting
END:VEVENT
END:VCALENDAR
