BEGIN:VCALENDAR
VERSION:2.0
PRODID:-//revitalizedelton.org//NONSGML kigkonsult.se iCalcreator 2.30.10//
CALSCALE:GREGORIAN
METHOD:PUBLISH
UID:83b2ff8b-d9ca-4e90-aa7a-0d1dac39338e
X-WR-CALDESC:Join the Founders Festival Committee in planning out the annua
 l Delton Founders Festival
X-WR-RELCALID:311a905d4248d63856151b51ba4bb44b
X-WR-TIMEZONE:America/New_York
BEGIN:VTIMEZONE
TZID:America/New_York
BEGIN:STANDARD
TZNAME:EST
DTSTART:20271107T020000
TZOFFSETFROM:-0400
TZOFFSETTO:-0500
RDATE:20281105T020000
END:STANDARD
BEGIN:DAYLIGHT
TZNAME:EDT
DTSTART:20270314T020000
TZOFFSETFROM:-0500
TZOFFSETTO:-0400
RDATE:20280312T020000
RDATE:20290311T020000
END:DAYLIGHT
END:VTIMEZONE
BEGIN:VEVENT
UID:98c4e00f-f2a9-4cbc-adc7-3cd93452bdc3
DTSTAMP:20260422T153238Z
DESCRIPTION:Join the Founders Festival Committee in planning out the annual
  Delton Founders Festival
DTSTART;TZID=America/New_York:20271214T180000
DTEND;TZID=America/New_York:20271214T190000
LOCATION:155 E Orchard St\, Delton\, MI 49046 US
SUMMARY:Delton Founder's Festival Committee Meeting
END:VEVENT
END:VCALENDAR
