BEGIN:VCALENDAR
VERSION:2.0
PRODID:-//revitalizedelton.org//NONSGML kigkonsult.se iCalcreator 2.30.10//
CALSCALE:GREGORIAN
METHOD:PUBLISH
UID:16d295b7-eea3-4f2c-82c0-12470365c033
X-WR-CALDESC:For more information: http://prairievilletwp-mi.org
X-WR-RELCALID:7b209719f15c3db3768d464f5c63f9d1
X-WR-TIMEZONE:America/New_York
BEGIN:VTIMEZONE
TZID:America/New_York
BEGIN:STANDARD
TZNAME:EST
DTSTART:20271107T020000
TZOFFSETFROM:-0400
TZOFFSETTO:-0500
RDATE:20281105T020000
END:STANDARD
BEGIN:DAYLIGHT
TZNAME:EDT
DTSTART:20270314T020000
TZOFFSETFROM:-0500
TZOFFSETTO:-0400
RDATE:20280312T020000
RDATE:20290311T020000
END:DAYLIGHT
END:VTIMEZONE
BEGIN:VEVENT
UID:575dfab1-e448-47eb-9643-90222e2b4dd7
DTSTAMP:20260422T152627Z
DESCRIPTION:For more information: http://prairievilletwp-mi.org
DTSTART;TZID=America/New_York:20271227T183000
DTEND;TZID=America/New_York:20271227T193000
LOCATION:10115 S Norris Rd\, Delton\, MI 49046 US
SUMMARY:Prairieville Township Parks Board Meeting
END:VEVENT
END:VCALENDAR
